BEGIN:VCALENDAR
VERSION:2.0
PRODID:-//Studio 44 Krško - ECPv6.14.2//NONSGML v1.0//EN
CALSCALE:GREGORIAN
METHOD:PUBLISH
X-WR-CALNAME:Studio 44 Krško
X-ORIGINAL-URL:https://studio44.bigbandkk.si
X-WR-CALDESC:Dogodki za Studio 44 Krško
REFRESH-INTERVAL;VALUE=DURATION:PT1H
X-Robots-Tag:noindex
X-PUBLISHED-TTL:PT1H
BEGIN:VTIMEZONE
TZID:Europe/Ljubljana
BEGIN:DAYLIGHT
TZOFFSETFROM:+0100
TZOFFSETTO:+0200
TZNAME:CEST
DTSTART:20170326T010000
END:DAYLIGHT
BEGIN:STANDARD
TZOFFSETFROM:+0200
TZOFFSETTO:+0100
TZNAME:CET
DTSTART:20171029T010000
END:STANDARD
END:VTIMEZONE
BEGIN:VEVENT
DTSTART;TZID=Europe/Ljubljana:20170928T200000
DTEND;TZID=Europe/Ljubljana:20170928T200000
DTSTAMP:20260419T205119
CREATED:20180726T121809Z
LAST-MODIFIED:20250729T072348Z
UID:336-1506628800-1506628800@studio44.bigbandkk.si
SUMMARY:Lovro Ravbar & Get on Board Collective
DESCRIPTION:Lovro Ravbar – alt in sopran saksofon\nTomaž Gajšt – trobenta\, klaviature\nJure Urek – bas pozavna\nJernej Trobentar – kitara\nRok Lopatič – klavir\, klaviature\nJanez Hace – bas\nLázaro Amed Hierrezuelo – tolkala\nDavid Morgan – bobni
URL:https://studio44.bigbandkk.si/event/lovro-ravbar-get-on-board-collective/
CATEGORIES:2017
END:VEVENT
END:VCALENDAR