BEGIN:VCALENDAR
VERSION:2.0
PRODID:-//Studio 44 Krško - ECPv6.14.2//NONSGML v1.0//EN
CALSCALE:GREGORIAN
METHOD:PUBLISH
X-ORIGINAL-URL:https://studio44.bigbandkk.si
X-WR-CALDESC:Dogodki za Studio 44 Krško
REFRESH-INTERVAL;VALUE=DURATION:PT1H
X-Robots-Tag:noindex
X-PUBLISHED-TTL:PT1H
BEGIN:VTIMEZONE
TZID:Europe/Ljubljana
BEGIN:DAYLIGHT
TZOFFSETFROM:+0100
TZOFFSETTO:+0200
TZNAME:CEST
DTSTART:20250330T010000
END:DAYLIGHT
BEGIN:STANDARD
TZOFFSETFROM:+0200
TZOFFSETTO:+0100
TZNAME:CET
DTSTART:20251026T010000
END:STANDARD
END:VTIMEZONE
BEGIN:VEVENT
DTSTART;TZID=Europe/Ljubljana:20251103T200000
DTEND;TZID=Europe/Ljubljana:20251103T220000
DTSTAMP:20260420T123902
CREATED:20251022T104122Z
LAST-MODIFIED:20251022T104140Z
UID:1011-1762200000-1762207200@studio44.bigbandkk.si
SUMMARY:Igor Lumpert & Innertextures
DESCRIPTION:ponedeljek\, 3. 11. 2025\, ob 20:00\nVstopnina: 10€; za osnovnošolce\, dijake in študente je vstop prost. Karte so na voljo pred koncertom. Rezervacija je možna na info@bigbandkk.si. \n\n🎷 Igor Lumpert & Innertextures – Drum Gods Tour 2025 🥁 \nSkupina Igor Lumpert & Innertextures\, v kateri igrajo izjemni in mednarodno priznani glasbeniki: Igor Lumpert\, tenor saksofon\, soprano saxofon\, kompozicije \nGreg Ward (alt saksofon)\, Kenny Grohowski (bobni) ter Stephan Crump (kontrabas\, nominiran za nagrado Grammy)\, bo konec oktobra 2025 krenila na novo koncertno turnejo po ZDA. \nNa “Drum Gods Tour” bodo predstavljali povsem nov glasbeni material z naslovom “Drum Gods”\, ki so ga že deloma izvedli na nedavno zaključeni evropski turneji oktobra 2024. Odzivi občinstva so bili izjemno pozitivni\, kar jim daje dodaten zagon\, da novembra\, takoj po koncu turneje\, stopijo v studio in začnemo snemati nov album. \n\n🎺 Zasedba:\n\nIgor Lumpert – tenor saksofon / kompozicije\nGreg Ward – alt saksofon\nStephan Crump – kontrabas\nKenny Grohowski – bobni\n\n  \nKoncerti Jazz v Studiu 44 potekajo od leta 2017. Organizira jih Kulturno društvo Big band Krško s podporo Mestne občine Krško in Ministrstva za kulturo RS. \nDonatorji klavirja so Krka d.d\, Gen energija d.o.o. in Hess d.o.o.
URL:https://studio44.bigbandkk.si/event/igor-lumpert-innertextures/
CATEGORIES:2025
ATTACH;FMTTYPE=image/jpeg:https://studio44.bigbandkk.si/wp-content/uploads/2025/10/Igor-Cerkno.jpg
END:VEVENT
BEGIN:VEVENT
DTSTART;TZID=Europe/Ljubljana:20251123T190000
DTEND;TZID=Europe/Ljubljana:20251123T220000
DTSTAMP:20260420T123902
CREATED:20250726T115351Z
LAST-MODIFIED:20251026T123500Z
UID:324-1763924400-1763935200@studio44.bigbandkk.si
SUMMARY:Petra Onderuf in Big band Krško
DESCRIPTION:nedelja\, 23. 11. 2025\, ob 19:00\nVstopnina: 10€; za osnovnošolce\, dijake in študente je vstop prost. Karte so na voljo pred koncertom. Rezervacija je možna na info@bigbandkk.si. \nPetra Onderuf je jazz violinistka\, ki kljubuje konvencijam in pomaga oblikovati vlogo violine v jazzu. Svoje znanje jazza in klasične glasbe združuje s strastjo do raziskovanja svetovnih glasbenih tradicij\, kar se odraža v njeni glasbi\, ki vključuje elemente različnih žanrov in kultur. Njeno brezkompromisno improviziranje in inovativno skladanje sta ji prinesla ugled umetnice\, ki nenehno raziskuje in presega meje svojega inštrumenta. Nastopa z različnimi zasedbami po vsem svetu\, njene kompozicije pa so izvajali številni ansambli\, med drugim tudi HRT Big Band. \n  \nKoncerti Jazz v Studiu 44 potekajo od leta 2017. Organizira jih Kulturno društvo Big band Krško s podporo Mestne občine Krško in Ministrstva za kulturo RS. \nDonatorji klavirja so Krka d.d\, Gen energija d.o.o. in Hess d.o.o.
URL:https://studio44.bigbandkk.si/event/petra-onderuf-in-big-band-krsko/
CATEGORIES:2025
ATTACH;FMTTYPE=image/jpeg:https://studio44.bigbandkk.si/wp-content/uploads/2025/07/0037714415_10.jpg
END:VEVENT
END:VCALENDAR