BEGIN:VCALENDAR
VERSION:2.0
PRODID:-//Studio 44 Krško - ECPv6.14.2//NONSGML v1.0//EN
CALSCALE:GREGORIAN
METHOD:PUBLISH
X-ORIGINAL-URL:https://studio44.bigbandkk.si
X-WR-CALDESC:Dogodki za Studio 44 Krško
REFRESH-INTERVAL;VALUE=DURATION:PT1H
X-Robots-Tag:noindex
X-PUBLISHED-TTL:PT1H
BEGIN:VTIMEZONE
TZID:Europe/Ljubljana
BEGIN:DAYLIGHT
TZOFFSETFROM:+0100
TZOFFSETTO:+0200
TZNAME:CEST
DTSTART:20190331T010000
END:DAYLIGHT
BEGIN:STANDARD
TZOFFSETFROM:+0200
TZOFFSETTO:+0100
TZNAME:CET
DTSTART:20191027T010000
END:STANDARD
BEGIN:DAYLIGHT
TZOFFSETFROM:+0100
TZOFFSETTO:+0200
TZNAME:CEST
DTSTART:20200329T010000
END:DAYLIGHT
BEGIN:STANDARD
TZOFFSETFROM:+0200
TZOFFSETTO:+0100
TZNAME:CET
DTSTART:20201025T010000
END:STANDARD
BEGIN:DAYLIGHT
TZOFFSETFROM:+0100
TZOFFSETTO:+0200
TZNAME:CEST
DTSTART:20210328T010000
END:DAYLIGHT
BEGIN:STANDARD
TZOFFSETFROM:+0200
TZOFFSETTO:+0100
TZNAME:CET
DTSTART:20211031T010000
END:STANDARD
BEGIN:DAYLIGHT
TZOFFSETFROM:+0100
TZOFFSETTO:+0200
TZNAME:CEST
DTSTART:20220327T010000
END:DAYLIGHT
BEGIN:STANDARD
TZOFFSETFROM:+0200
TZOFFSETTO:+0100
TZNAME:CET
DTSTART:20221030T010000
END:STANDARD
BEGIN:DAYLIGHT
TZOFFSETFROM:+0100
TZOFFSETTO:+0200
TZNAME:CEST
DTSTART:20230326T010000
END:DAYLIGHT
BEGIN:STANDARD
TZOFFSETFROM:+0200
TZOFFSETTO:+0100
TZNAME:CET
DTSTART:20231029T010000
END:STANDARD
BEGIN:DAYLIGHT
TZOFFSETFROM:+0100
TZOFFSETTO:+0200
TZNAME:CEST
DTSTART:20240331T010000
END:DAYLIGHT
BEGIN:STANDARD
TZOFFSETFROM:+0200
TZOFFSETTO:+0100
TZNAME:CET
DTSTART:20241027T010000
END:STANDARD
BEGIN:DAYLIGHT
TZOFFSETFROM:+0100
TZOFFSETTO:+0200
TZNAME:CEST
DTSTART:20250330T010000
END:DAYLIGHT
BEGIN:STANDARD
TZOFFSETFROM:+0200
TZOFFSETTO:+0100
TZNAME:CET
DTSTART:20251026T010000
END:STANDARD
END:VTIMEZONE
BEGIN:VEVENT
DTSTART;TZID=Europe/Ljubljana:20191109T200000
DTEND;TZID=Europe/Ljubljana:20250726T220000
DTSTAMP:20260423T001231
CREATED:20250726T142121Z
LAST-MODIFIED:20250726T142206Z
UID:407-1573329600-1753567200@studio44.bigbandkk.si
SUMMARY:Muscah
DESCRIPTION:Esat Ekincioğlu (Turčija) – kontrabas\, bas kitara\, Gašper Selko (Slovenija) – trobenta\, Mathieu Laplanche (Francija) – telesna tolkala\, Jankely Felix del Aguila (Peru) – bobni\, tolkala + poseben gost: Tomchess – oud
URL:https://studio44.bigbandkk.si/event/muscah/
CATEGORIES:2019
END:VEVENT
BEGIN:VEVENT
DTSTART;TZID=Europe/Ljubljana:20210516T200000
DTEND;TZID=Europe/Ljubljana:20250516T220000
DTSTAMP:20260423T001231
CREATED:20250731T084804Z
LAST-MODIFIED:20250731T084804Z
UID:546-1621195200-1747432800@studio44.bigbandkk.si
SUMMARY:Nikola Matošić in BBKK Combo
DESCRIPTION:Nikola Matošić  – kontrabas\, Aleš Suša  – alt saksofon\, Janez Hrastovšek  – pozavna\, Miha Koretič  – kitara\, Jakob Avsenak  – bobni
URL:https://studio44.bigbandkk.si/event/nikola-matosic-in-bbkk-combo/
CATEGORIES:2021
END:VEVENT
END:VCALENDAR